BEGIN:VCALENDAR
VERSION:2.0
PRODID:-//wp-events-plugin.com//7.2.3.1//EN
TZID:Europe/Paris
X-WR-TIMEZONE:Europe/Paris
BEGIN:VEVENT
UID:619@ufolep87.fr
DTSTART;TZID=Europe/Paris;VALUE=DATE:20251019
DTEND;TZID=Europe/Paris;VALUE=DATE:20251020
DTSTAMP:20250924T125629Z
URL:https://ufolep87.fr/evenements/trophee-du-limousin-2025-motocross
SUMMARY:TROPHEE DU LIMOUSIN 2025 - MOTOCROSS
DESCRIPTION:Club organisateur : MOTO CLUB HOULIEROIS\n\nRESTAURATION ET BUV
 ETTE SUR PLACE\n\nENTREE \; 5€ / GRATUIT -12 ANS\n\nLIEU / Saint Priest 
 Taurion\n\nCONTACT : Président\n\nDENIS GUILLAUME -  06.32.62.54.46
ATTACH;FMTTYPE=image/jpeg:https://ufolep87.fr/wp-content/uploads/2025/09/1
 000019462.jpg
CATEGORIES:Moto cross et vitesse,Sports mécaniques
END:VEVENT
BEGIN:VTIMEZONE
TZID:Europe/Paris
X-LIC-LOCATION:Europe/Paris
BEGIN:DAYLIGHT
DTSTART:20250330T030000
TZOFFSETFROM:+0100
TZOFFSETTO:+0200
TZNAME:CEST
END:DAYLIGHT
END:VTIMEZONE
END:VCALENDAR