BEGIN:VCALENDAR
VERSION:2.0
PRODID:-//wp-events-plugin.com//7.2.3.1//EN
TZID:Europe/Paris
X-WR-TIMEZONE:Europe/Paris
BEGIN:VEVENT
UID:666@ufolep87.fr
DTSTART;TZID=Europe/Paris:20260607T090000
DTEND;TZID=Europe/Paris:20260607T120000
DTSTAMP:20251128T161854Z
URL:https://ufolep87.fr/evenements/trail-10eme-ronde-des-legendes
SUMMARY:Trail : 10ème Ronde des Légendes
DESCRIPTION:Club : GUIDON BELLACHON - Sports de pleine nature\n\nLieu : Sta
 de de Blond\n\nCircuits : \n\n 	départ 9h15 - 24\,6km\n 	départ 9h20 - 
 13km\n 	départ 9h25 - 8.5 km\n 	Canicross : départ 9h00 - 8.5 km\n\nInfo
 rmations : \n\n 	Inscription avant le 08/06/25 via le site du Guidon Bell
 achon : circuit 1 : 10€ et le circuit 2/3 à 7€ (inscription possible 
 sur place\, majorée à 3€)\n 	Page ronde des légendes www.chronométra
 ge.com\n 	Ravitaillement tous les 5km\, point d'eau pour les chiens\, buve
 tte à l'arrivée\, douches\, parking\, récompenses à 11h pour le canicr
 oss et 12h pour la course nature\n\nContact :\nANTOINE GAILLEDRAT --&gt\; 
 guidon.bellachon.spdn@gmail.com : 06.86.93.26.32\n\nLUDOVIC BOOS \; 06.14.
 99.58.21
CATEGORIES:Course hors stade – Trail
LOCATION:BLOND\, Blond\, Blond\, France
GEO:46.044337;1.020097
X-APPLE-STRUCTURED-LOCATION;VALUE=URI;X-ADDRESS=Blond\, Blond\, France;X-AP
 PLE-RADIUS=100;X-TITLE=BLOND:geo:46.044337,1.020097
END:VEVENT
BEGIN:VTIMEZONE
TZID:Europe/Paris
X-LIC-LOCATION:Europe/Paris
BEGIN:DAYLIGHT
DTSTART:20260329T030000
TZOFFSETFROM:+0100
TZOFFSETTO:+0200
TZNAME:CEST
END:DAYLIGHT
END:VTIMEZONE
END:VCALENDAR