BEGIN:VCALENDAR
VERSION:2.0
PRODID:-//wp-events-plugin.com//7.2.3.1//EN
TZID:Europe/Paris
X-WR-TIMEZONE:Europe/Paris
BEGIN:VEVENT
UID:625@ufolep87.fr
DTSTART;TZID=Europe/Paris:20251019T090000
DTEND;TZID=Europe/Paris:20251019T180000
DTSTAMP:20251003T084232Z
URL:https://ufolep87.fr/evenements/tournoi-volley-ball-isle
SUMMARY:TOURNOI VOLLEY BALL ISLE
DESCRIPTION:Club Organisateur : A LA VOLLEY D'ISLE SECTION UFOLEP\n\nDate :
  Dimanche 19 octobre de 9h00 à 18h00\n\nLieu : Gymnase Marcel Lalu\, Isle
  87170\n\nInformations supplémentaires :\n\n 	4x4 mixte\n 	Restauration s
 ur place\n 	20€ par équipe\n\nInscription par mail : islevolley87@gmail
 .com\n\n&nbsp\;
ATTACH;FMTTYPE=image/jpeg:https://ufolep87.fr/wp-content/uploads/2025/10/T
 OURNOI-ISLE-VOLLEY.png
CATEGORIES:Volley
LOCATION:Gymnase Marcel Lalu\, rue du Taurion\, Isle\, 87170\, France
GEO:45.80988;1.222712
X-APPLE-STRUCTURED-LOCATION;VALUE=URI;X-ADDRESS=rue du Taurion\, Isle\, 871
 70\, France;X-APPLE-RADIUS=100;X-TITLE=Gymnase Marcel Lalu:geo:45.80988,1.
 222712
END:VEVENT
BEGIN:VTIMEZONE
TZID:Europe/Paris
X-LIC-LOCATION:Europe/Paris
BEGIN:DAYLIGHT
DTSTART:20250330T030000
TZOFFSETFROM:+0100
TZOFFSETTO:+0200
TZNAME:CEST
END:DAYLIGHT
END:VTIMEZONE
END:VCALENDAR