BEGIN:VCALENDAR
VERSION:2.0
PRODID:-//wp-events-plugin.com//7.2.3.1//EN
TZID:Europe/Paris
X-WR-TIMEZONE:Europe/Paris
BEGIN:VEVENT
UID:4@ufolep87.fr
DTSTART;TZID=Europe/Paris:20230105T203000
DTEND;TZID=Europe/Paris:20230105T234500
DTSTAMP:20230102T150710Z
URL:https://ufolep87.fr/evenements/tournoi-beach-volley
SUMMARY:Tournoi Beach Volley
DESCRIPTION:Tournoi Beach Volley à Saint-Pardoux sur le site des Chabannes
  à 14h00.\n\n\n&nbsp\;\n\n
CATEGORIES:Volley
LOCATION:ST JUST LE MARTEL\, ST JUST LE MARTEL\, ST JUST LE MARTEL\, France
X-APPLE-STRUCTURED-LOCATION;VALUE=URI;X-ADDRESS=ST JUST LE MARTEL\, ST JUST
  LE MARTEL\, France;X-APPLE-RADIUS=100;X-TITLE=ST JUST LE MARTEL:geo:0,0
END:VEVENT
BEGIN:VTIMEZONE
TZID:Europe/Paris
X-LIC-LOCATION:Europe/Paris
BEGIN:STANDARD
DTSTART:20221030T020000
TZOFFSETFROM:+0200
TZOFFSETTO:+0100
TZNAME:CET
END:STANDARD
END:VTIMEZONE
END:VCALENDAR