BEGIN:VCALENDAR
VERSION:2.0
PRODID:-//wp-events-plugin.com//7.2.3.1//EN
TZID:Europe/Paris
X-WR-TIMEZONE:Europe/Paris
BEGIN:VEVENT
UID:672@ufolep87.fr
DTSTART;TZID=Europe/Paris:20260620T180000
DTEND;TZID=Europe/Paris:20260620T210000
DTSTAMP:20251203T103831Z
URL:https://ufolep87.fr/evenements/semi-nocture-cassepierre
SUMMARY:SEMI NOCTURE CASSEPIERRE
DESCRIPTION:Club: AC2R\n\nLieu: Rilhac Rancon\n\nCircuits : \n\n 	Départ 
 à 20h00 - 80km\n 	Départ 20h04 -70km\n 	 Départ 18h00 - 60km\n 	Dépar
 t 18h04 - 50km\n 	11/12 départ 18h06 - 10km\n 	13/14 départ 18h02 - 35km
 \n 	15/16 départ 20h02- 45km\n\nInformation complémentaire:\n\n 	Engagem
 ent en ligne sur le site national Cyclisme: https://www.ufolep-cyclisme.o
 rg/\n\nContact:\n\nCHANUDET Sandrine --&gt\; clubac2r@gmail.com / 06.15.15
 .3681\n\n&nbsp\;
ATTACH;FMTTYPE=image/jpeg:https://ufolep87.fr/wp-content/uploads/2023/07/A
 C2R.png
CATEGORIES:Cyclosport
LOCATION:RILHAC-RANCON\, RILHAC-RANCON\, RILHAC-RANCON\, France
GEO:45.896899;1.319155
X-APPLE-STRUCTURED-LOCATION;VALUE=URI;X-ADDRESS=RILHAC-RANCON\, RILHAC-RANC
 ON\, France;X-APPLE-RADIUS=100;X-TITLE=RILHAC-RANCON:geo:45.896899,1.31915
 5
END:VEVENT
BEGIN:VTIMEZONE
TZID:Europe/Paris
X-LIC-LOCATION:Europe/Paris
BEGIN:DAYLIGHT
DTSTART:20260329T030000
TZOFFSETFROM:+0100
TZOFFSETTO:+0200
TZNAME:CEST
END:DAYLIGHT
END:VTIMEZONE
END:VCALENDAR