BEGIN:VCALENDAR
VERSION:2.0
PRODID:-//wp-events-plugin.com//7.2.3.1//EN
TZID:Europe/Paris
X-WR-TIMEZONE:Europe/Paris
BEGIN:VEVENT
UID:630@ufolep87.fr
DTSTART;TZID=Europe/Paris:20260118T143000
DTEND;TZID=Europe/Paris:20260118T183000
DTSTAMP:20251128T141052Z
URL:https://ufolep87.fr/evenements/roc-cyclo-cross-2
SUMMARY:ROC CYCLO-CROSS
DESCRIPTION:Club :  ROC CYCLO\n\nLieu : Plan d'eau de Chaumeix - Saillat /
  Vienne\n\nCircuit :\n\n 	départ 15h00 - durée 50' /km - 2 boucles\n 	d
 épart 15h01 - durée 50' /km - 2 boucles\n 	départ 15h03 - durée 50' /k
 m - 2 boucles\n 	départ 15h04 - durée 50' /km - 2 boucles\n 	11/12 ans d
 épart 14h30- durée 15' /km - 2 boucles\n 	13/14ans départ 13h46 - duré
 e 20' /km - 2 boucles\n 	15/16ans départ 13h45 - durée 30' /km - 2 boucl
 es\n 	-10 ans - départ 14h30 - Initiation\n\nContact --&gt\;  CHENAUD Pi
 erre : roccyclo87@gmail.com / 06.25.44.16.26\n\nInformations complémentai
 res :\n\nEngagement en ligne : www.ufolep-cyclisme.org\n\nPour toutes les 
 catégories appel 10 minutes avant le départ
CATEGORIES:Activités cyclistes ,Cyclocross
LOCATION:plan d'eau de Chaumeix\, plan d'eau de Chaumeix\, Saillat / Vienne
 \, France
GEO:45.877173;0.841804
X-APPLE-STRUCTURED-LOCATION;VALUE=URI;X-ADDRESS=plan d'eau de Chaumeix\, Sa
 illat / Vienne\, France;X-APPLE-RADIUS=100;X-TITLE=plan d'eau de Chaumeix:
 geo:45.877173,0.841804
END:VEVENT
BEGIN:VTIMEZONE
TZID:Europe/Paris
X-LIC-LOCATION:Europe/Paris
BEGIN:STANDARD
DTSTART:20251026T020000
TZOFFSETFROM:+0200
TZOFFSETTO:+0100
TZNAME:CET
END:STANDARD
END:VTIMEZONE
END:VCALENDAR