BEGIN:VCALENDAR
VERSION:2.0
PRODID:-//wp-events-plugin.com//7.2.3.1//EN
TZID:Europe/Paris
X-WR-TIMEZONE:Europe/Paris
BEGIN:VEVENT
UID:660@ufolep87.fr
DTSTART;TZID=Europe/Paris;VALUE=DATE:20250524
DTEND;TZID=Europe/Paris;VALUE=DATE:20250525
DTSTAMP:20251128T160148Z
URL:https://ufolep87.fr/evenements/randonnees-vtt-pedestre-miauletou-2
SUMMARY:Randonnées VTT - Pédestre : Miauletou
DESCRIPTION:Club: VTT MIAULETOU\n\nLieu: SAINT-LEONARD-DE-NOBLAT\n\nInforma
 tion complémentaire: Engagement en ligne possible sur Yapla\n\nHoraires :
  8h30 cyclo et pédestre\n\nGratuit pour les -16 ans / Majoration de 2€ 
 sur place\n\nContact \;\n\nLouis ANDRE - levttmiauletou@yahoo.com - 06.49.
 20.25.90\n\n&nbsp\;\n\n&nbsp\;\n\n&nbsp\;\n\n&nbsp\;\n\n&nbsp\;
CATEGORIES:Randonnée VTT / VTTAE,Randonnées pédestres
LOCATION:SAINT-LEONARD-DE-NOBLAT\, SAINT-LEONARD-DE-NOBLAT\, SAINT-LEONARD-
 DE-NOBLAT\, France
GEO:45.8367;1.486205
X-APPLE-STRUCTURED-LOCATION;VALUE=URI;X-ADDRESS=SAINT-LEONARD-DE-NOBLAT\, S
 AINT-LEONARD-DE-NOBLAT\, France;X-APPLE-RADIUS=100;X-TITLE=SAINT-LEONARD-D
 E-NOBLAT:geo:45.8367,1.486205
END:VEVENT
BEGIN:VTIMEZONE
TZID:Europe/Paris
X-LIC-LOCATION:Europe/Paris
BEGIN:DAYLIGHT
DTSTART:20250330T030000
TZOFFSETFROM:+0100
TZOFFSETTO:+0200
TZNAME:CEST
END:DAYLIGHT
END:VTIMEZONE
END:VCALENDAR