BEGIN:VCALENDAR
VERSION:2.0
PRODID:-//wp-events-plugin.com//7.2.3.1//EN
TZID:Europe/Paris
X-WR-TIMEZONE:Europe/Paris
BEGIN:VEVENT
UID:631@ufolep87.fr
DTSTART;TZID=Europe/Paris:20260208T084500
DTEND;TZID=Europe/Paris:20260208T134500
DTSTAMP:20251128T141347Z
URL:https://ufolep87.fr/evenements/randonnees-vtt-pedestre-la-chandeleur-3
SUMMARY:Randonnées VTT - Pédestre : La Chandeleur
DESCRIPTION:Club: UC SEREILHAC\n\nLieu: Maison Neuve - Salle des fêtes\n\n
 Horaires:\n\n 	Randonnée VTT / VTTAE: 9h00 --&gt\; 4 circuit : 50km / 38k
 m / 27km / 15km\n 	Randonnées pédestres: 8h45 ---&gt\; 12km\n\nInformati
 on complémentaire: Engagement en ligne possible sur HelloAsso.\n\nContact
  --&gt\; LAJUDIE Jacques : jacques.lajudie@orange.fr / 06.83.24.29.87\n\n
 Infos tarif \;\n\n 	Majoration 2€ sur place\n 	Gratuit pour les -16ans\n
CATEGORIES:Randonnée VTT / VTTAE,Randonnées pédestres
LOCATION:Maison Neuve - Séreilhac\, Maison Neuve\, Séreilhac\, France
GEO:45.765978;1.069791
X-APPLE-STRUCTURED-LOCATION;VALUE=URI;X-ADDRESS=Maison Neuve\, Séreilhac\,
  France;X-APPLE-RADIUS=100;X-TITLE=Maison Neuve - Séreilhac:geo:45.765978
 ,1.069791
END:VEVENT
BEGIN:VTIMEZONE
TZID:Europe/Paris
X-LIC-LOCATION:Europe/Paris
BEGIN:STANDARD
DTSTART:20251026T020000
TZOFFSETFROM:+0200
TZOFFSETTO:+0100
TZNAME:CET
END:STANDARD
END:VTIMEZONE
END:VCALENDAR