BEGIN:VCALENDAR
VERSION:2.0
PRODID:-//wp-events-plugin.com//7.2.3.1//EN
TZID:Europe/Paris
X-WR-TIMEZONE:Europe/Paris
BEGIN:VEVENT
UID:638@ufolep87.fr
DTSTART;TZID=Europe/Paris:20240526T133000
DTEND;TZID=Europe/Paris:20240526T173000
DTSTAMP:20251128T143922Z
URL:https://ufolep87.fr/evenements/prix-cycliste-du-ccbl-2
SUMMARY:Prix Cycliste du CCBL
DESCRIPTION:Club: Cyclo Club Bosmie l'Aiguille\n\nLieu: Territoire val de v
 ienne - Bosmie l'Aiguille\n\nHoraire: 13h30 - 15H30\n\nInformations compl
 émentaires:\n\n 	Engagement en ligne sur le site national UFOLEP Cyclisme
  https://www.ufolep-cyclisme.org/\n 	Ravitaillements + récompenses + pot
  de l'amitié et restauration sur place.\n\nOrganisateur --&gt\; DARTHOUX 
 Sylvain: sylvainz1000@hotmail.fr / 06.74.82.68.91\n\nInfos tarif : Majorat
 ion de 2€ sur place
CATEGORIES:Activités cyclistes ,Cyclosport
LOCATION:Charroux - Bosmie l'Aiguille\, Charroux - Bosmie l'Aiguille\, Bosm
 ie l'Aiguille\, France
GEO:45.763166;1.202997
X-APPLE-STRUCTURED-LOCATION;VALUE=URI;X-ADDRESS=Charroux - Bosmie l'Aiguill
 e\, Bosmie l'Aiguille\, France;X-APPLE-RADIUS=100;X-TITLE=Charroux - Bosmi
 e l'Aiguille:geo:45.763166,1.202997
END:VEVENT
BEGIN:VTIMEZONE
TZID:Europe/Paris
X-LIC-LOCATION:Europe/Paris
BEGIN:DAYLIGHT
DTSTART:20240331T030000
TZOFFSETFROM:+0100
TZOFFSETTO:+0200
TZNAME:CEST
END:DAYLIGHT
END:VTIMEZONE
END:VCALENDAR