BEGIN:VCALENDAR
VERSION:2.0
PRODID:-//wp-events-plugin.com//7.2.3.1//EN
TZID:Europe/Paris
X-WR-TIMEZONE:Europe/Paris
BEGIN:VEVENT
UID:678@ufolep87.fr
DTSTART;TZID=Europe/Paris:20260705T130000
DTEND;TZID=Europe/Paris:20260705T180000
DTSTAMP:20251203T145404Z
URL:https://ufolep87.fr/evenements/les-boucles-saint-martial
SUMMARY:Les Boucles Saint Martial
DESCRIPTION:Club: CC NIEUL\n\nLieu: Landouge\n\nHoraire:\n\n 	départ 15h30
  - 74 km\n 	départ 15h31 - 67 km\n 	départ 13h30 - 59 km\n 	départ 13h3
 2 - 52 km\n 	11/12 départ 13h35 - 23 km\n 	13/14 départ 13h34 - 33 km\n 
 	départ 13h32 - 41 km\n\nInformation complémentaire:\n\n 	Engagement en 
 ligne obligatoire sur le site national UFOLEP Cyclisme: https://www.ufole
 p-cyclisme.org/\n\nOrganisateur: \n\n--&gt\; Stéphane CLAVAUD -&gt\; step
 hanedelphine.clavaud@orange.fr / 06.88.08.80.72\n\n--&gt\;Fabrice NOUHANT 
 - &gt\; fabrice.nouhant@gmail.com / 06.82.94.43.21\n\n&nbsp\;\n\n&nbsp\;\n
 \n&nbsp\;\n\n&nbsp\;
CATEGORIES:Cyclosport
END:VEVENT
BEGIN:VTIMEZONE
TZID:Europe/Paris
X-LIC-LOCATION:Europe/Paris
BEGIN:DAYLIGHT
DTSTART:20260329T030000
TZOFFSETFROM:+0100
TZOFFSETTO:+0200
TZNAME:CEST
END:DAYLIGHT
END:VTIMEZONE
END:VCALENDAR