BEGIN:VCALENDAR
VERSION:2.0
PRODID:-//wp-events-plugin.com//7.2.3.1//EN
TZID:Europe/Paris
X-WR-TIMEZONE:Europe/Paris
BEGIN:VEVENT
UID:664@ufolep87.fr
DTSTART;TZID=Europe/Paris:20260530T140000
DTEND;TZID=Europe/Paris:20260530T160000
DTSTAMP:20251128T161453Z
URL:https://ufolep87.fr/evenements/la-ronde-des-3-chateaux
SUMMARY:LA RONDE DES 3 CHÂTEAUX
DESCRIPTION:Club: ROC CYCLO\n\nLieu: Rue du chemin de fer - Rochechouart\n\
 nHoraire:\n\n 	départ 14h30 - 89.5km\n 	départ 14h30 - 82.15 km\n 	dépa
 rt 14h30 - 74.8 km\n 	départ 14h35- 44.1 km\n 	11/12 ans : 14h35 - 7.35km
 \n 	13/14 ans : 14h35 - 7.35km\n 	15/16ans : 14h35- 44.1 km\n\nInformation
 s complémentaires:\n\n 	Engagement en ligne obligatoire sur le site natio
 nal UFOLEP Cyclisme: https://www.ufolep-cyclisme.org/ .\n 	Récompenses e
 t pot de l'amitié.\n\nOrganisateur: Maxime MONJOFFRE --&gt\; maxime.monj
 offre@hotmail.com / Tel: 06 72 96 68 52\n\n&nbsp\;\n\n&nbsp\;\n\n&nbsp\;\n
 \n&nbsp\;\n\n&nbsp\;\n\n&nbsp\;\n\n&nbsp\;\n\n&nbsp\;
CATEGORIES:Cyclosport
LOCATION:Maison du temps libre Rochechouart\, Maison du temps libre à Roch
 echouart\, Rochechouart\, 87600\, France
GEO:45.824938;0.821384
X-APPLE-STRUCTURED-LOCATION;VALUE=URI;X-ADDRESS=Maison du temps libre à Ro
 chechouart\, Rochechouart\, 87600\, France;X-APPLE-RADIUS=100;X-TITLE=Mais
 on du temps libre Rochechouart:geo:45.824938,0.821384
END:VEVENT
BEGIN:VTIMEZONE
TZID:Europe/Paris
X-LIC-LOCATION:Europe/Paris
BEGIN:DAYLIGHT
DTSTART:20260329T030000
TZOFFSETFROM:+0100
TZOFFSETTO:+0200
TZNAME:CEST
END:DAYLIGHT
END:VTIMEZONE
END:VCALENDAR