BEGIN:VCALENDAR
VERSION:2.0
PRODID:-//wp-events-plugin.com//7.2.3.1//EN
TZID:Europe/Paris
X-WR-TIMEZONE:Europe/Paris
BEGIN:VEVENT
UID:644@ufolep87.fr
DTSTART;TZID=Europe/Paris:20260404T133000
DTEND;TZID=Europe/Paris:20260404T170000
DTSTAMP:20251128T145401Z
URL:https://ufolep87.fr/evenements/la-printaniere-3
SUMMARY:La Printanière
DESCRIPTION:Club: GUIDON BELLACHON SPORTS DE PLEINE NATURE\n\nLieu: Bellac
  - Maison des associations\n\nHoraire: 13h30\n\nCircuits : \n\n 	départ 
 13h30 - 90km - dénivelé 1000\n 	départ 14h00 - 65km - dénivelé 500\n 
 	départ 15h00 - 35km - dénivelé 250\n\nInformations complémentaires:\n
 \n 	Circuit gravel de 65km\n 	Ravitaillements\, récompenses\, point d’e
 au potable et pot de l’amitié.\n\nOrganisateur : Alain AUCLAIR --&gt\; 
 guidon.bellachon.spnd@gmail.com / 06.78.81.01.81\n\n&nbsp\;\n\n&nbsp\;\n\n
 &nbsp\;\n\n&nbsp\;\n\n&nbsp\;\n\n&nbsp\;\n\n&nbsp\;\n\n&nbsp\;\n\n&nbsp\;
CATEGORIES:Cyclotourisme
LOCATION:Salle Gartempe\, la maison des Associations\, Salle Gartempe\, la 
 maison des Associations\, Bellac\, France
GEO:46.265497;1.374378
X-APPLE-STRUCTURED-LOCATION;VALUE=URI;X-ADDRESS=Salle Gartempe\, la maison 
 des Associations\, Bellac\, France;X-APPLE-RADIUS=100;X-TITLE=Salle Gartem
 pe\, la maison des Associations:geo:46.265497,1.374378
END:VEVENT
BEGIN:VTIMEZONE
TZID:Europe/Paris
X-LIC-LOCATION:Europe/Paris
BEGIN:DAYLIGHT
DTSTART:20260329T030000
TZOFFSETFROM:+0100
TZOFFSETTO:+0200
TZNAME:CEST
END:DAYLIGHT
END:VTIMEZONE
END:VCALENDAR