BEGIN:VCALENDAR
VERSION:2.0
PRODID:-//wp-events-plugin.com//7.2.3.1//EN
TZID:Europe/Paris
X-WR-TIMEZONE:Europe/Paris
BEGIN:VEVENT
UID:675@ufolep87.fr
DTSTART;TZID=Europe/Paris:20260628T083000
DTEND;TZID=Europe/Paris:20260628T170000
DTSTAMP:20251203T133320Z
URL:https://ufolep87.fr/evenements/la-martelloise-4
SUMMARY:La Martelloise
DESCRIPTION:Club: JUST A VELO\n\nLieu: SAINT-JUST-LE-MARTEL - Parking salle
  des fêtes\n\nHoraires:\n\n 	3 Randonnée VTT / VTTAE:  départ 8h30 - 1
 6km / 30 km et départ 8h15 pour le 55km\n 	2 Randonnée pédestre: dépar
 t 8h30 - 13km / 16km\n\nInformation complémentaire:\n\n 	Engagement en li
 gne possible sur HelloAsso.\n 	Ravitaillements + lavage vélo + point d'ea
 u potable et pot de l'amitié\n\nContact :\nRémy WARION --&gt\; 06.65.51.
 09.87 / justavelo@hotmail.fr\n\n&nbsp\;\n\n&nbsp\;\n\n&nbsp\;\n\n&nbsp\;\n
 \n&nbsp\;\n\n&nbsp\;\n\n&nbsp\;\n\n&nbsp\;\n\n&nbsp\;
CATEGORIES:Randonnée VTT / VTTAE,Randonnées pédestres
LOCATION:SAINT JUST LE MARTEL\, SAINT JUST LE MARTEL\, SAINT JUST LE MARTEL
 \, France
GEO:45.83479;1.39187
X-APPLE-STRUCTURED-LOCATION;VALUE=URI;X-ADDRESS=SAINT JUST LE MARTEL\, SAIN
 T JUST LE MARTEL\, France;X-APPLE-RADIUS=100;X-TITLE=SAINT JUST LE MARTEL:
 geo:45.83479,1.39187
END:VEVENT
BEGIN:VTIMEZONE
TZID:Europe/Paris
X-LIC-LOCATION:Europe/Paris
BEGIN:DAYLIGHT
DTSTART:20260329T030000
TZOFFSETFROM:+0100
TZOFFSETTO:+0200
TZNAME:CEST
END:DAYLIGHT
END:VTIMEZONE
END:VCALENDAR