BEGIN:VCALENDAR
VERSION:2.0
PRODID:-//wp-events-plugin.com//7.2.3.1//EN
TZID:Europe/Paris
X-WR-TIMEZONE:Europe/Paris
BEGIN:VEVENT
UID:670@ufolep87.fr
DTSTART;TZID=Europe/Paris:20260620T140000
DTEND;TZID=Europe/Paris:20260620T170000
DTSTAMP:20251203T103035Z
URL:https://ufolep87.fr/evenements/la-laurentaise
SUMMARY:La Laurentaise
DESCRIPTION:Club: SCC LAURENTAIS\n\nLieu: Saint-Laurent-sur-Gorre\n\nHorair
 e:\n\n 	départ 14h : 80 km\n 	départ 14h30 pour 50km\n\nInformations com
 plémentaires:\n\n 	Ravitaillements + récompenses + point d'eau potable e
 t pot de l'amitié\n\nOrganisateur : Daniel TRICARD - scclaurentais@gmail.
 com - 06-75-49-45-81\n\nJean-Pierre GUILLOU - 06.74.64.57.83
CATEGORIES:Cyclotourisme
LOCATION:saint laurent sur gorre\, saint laurent sur gorre 87\, saint laure
 nt sur gorre\, France
GEO:45.769864;0.956854
X-APPLE-STRUCTURED-LOCATION;VALUE=URI;X-ADDRESS=saint laurent sur gorre 87\
 , saint laurent sur gorre\, France;X-APPLE-RADIUS=100;X-TITLE=saint lauren
 t sur gorre:geo:45.769864,0.956854
END:VEVENT
BEGIN:VTIMEZONE
TZID:Europe/Paris
X-LIC-LOCATION:Europe/Paris
BEGIN:DAYLIGHT
DTSTART:20260329T030000
TZOFFSETFROM:+0100
TZOFFSETTO:+0200
TZNAME:CEST
END:DAYLIGHT
END:VTIMEZONE
END:VCALENDAR