BEGIN:VCALENDAR
VERSION:2.0
PRODID:-//wp-events-plugin.com//7.2.3.1//EN
TZID:Europe/Paris
X-WR-TIMEZONE:Europe/Paris
BEGIN:VEVENT
UID:677@ufolep87.fr
DTSTART;TZID=Europe/Paris:20260703T193000
DTEND;TZID=Europe/Paris:20260703T213000
DTSTAMP:20251203T134327Z
URL:https://ufolep87.fr/evenements/la-belle-des-monts
SUMMARY:La Belle des Monts
DESCRIPTION:Club: VTT HAUT LIMOUSIN\n\nLieu: VAULRY\n\nHoraires:\n\n 	3 Ran
 donnée VTT / VTTAE:  départ 19h30 - 15km / 25km / 30km\n 	 Randonnée 
 pédestre: départ 19h30 - 9km\n\nInformation complémentaire:\n\n 	Engage
 ment en ligne possible sur HelloAsso.\n 	Restauration / snack\, buvette su
 r place\n\nContact :\nSébastien REINE - espacevtt.vaulry@orange.fr / 07.8
 7.39.87.28\n\n&nbsp\;\n\n&nbsp\;\n\n&nbsp\;\n\n&nbsp\;\n\n&nbsp\;\n\n&nbsp
 \;\n\n&nbsp\;\n\n&nbsp\;\n\n&nbsp\;
CATEGORIES:Randonnée VTT / VTTAE,Randonnées pédestres
END:VEVENT
BEGIN:VTIMEZONE
TZID:Europe/Paris
X-LIC-LOCATION:Europe/Paris
BEGIN:DAYLIGHT
DTSTART:20260329T030000
TZOFFSETFROM:+0100
TZOFFSETTO:+0200
TZNAME:CEST
END:DAYLIGHT
END:VTIMEZONE
END:VCALENDAR