BEGIN:VCALENDAR
VERSION:2.0
PRODID:-//wp-events-plugin.com//7.2.3.1//EN
TZID:Europe/Paris
X-WR-TIMEZONE:Europe/Paris
BEGIN:VEVENT
UID:657@ufolep87.fr
DTSTART;TZID=Europe/Paris:20260510T083000
DTEND;TZID=Europe/Paris:20260510T130000
DTSTAMP:20251128T155518Z
URL:https://ufolep87.fr/evenements/la-29eme-jouvencienne
SUMMARY:La 29ème JOUVENCIENNE
DESCRIPTION:Club: VTT SAINT-JOUVENT CYCLO CLUB\n\nLieu: Salle des Fêtes de
  St-JOUVENT 87510\n\nHoraires / Circuits\n\n 	Randonnée VTT / VTTAE : dé
 part 8h30 28 km et 42 km / départ 9h00 - 13km\n 	Randonnée pédestres : 
 départ 9h00 - 13km\n\nInformations complémentaires:\n\n 	Gratuit pour le
 s -16 ans // Majoration de 2€ sur place\n 	Engagement en ligne possible 
 sur HelloAsso jusqu'au samedi 09 mai 20h.\n 	Encadrement des enfants + rav
 itaillements + restauration sur place + récompenses + lavage vélo +point
  d'eau potable et pot de l'amitié\n\nContact :\n\nDidier CORGNE\ncorgne.d
 idier87@orange.fr\n06.30.28.12.76\n\nCADET Xavier --&gt\; xcadet87@gmail.c
 om / 06.88.56.41.92\n\n&nbsp\;\n\n&nbsp\;\n\n&nbsp\;
ATTACH;FMTTYPE=image/jpeg:https://ufolep87.fr/wp-content/uploads/2024/07/A
 ffiche-La-Jouvencienne.jpg
CATEGORIES:Randonnée VTT / VTTAE,Randonnées pédestres
LOCATION:SAINT-JOUVENT\, Salle des fêtes\, SAINT-JOUVENT\, France
GEO:45.956428;1.203542
X-APPLE-STRUCTURED-LOCATION;VALUE=URI;X-ADDRESS=Salle des fêtes\, SAINT-JO
 UVENT\, France;X-APPLE-RADIUS=100;X-TITLE=SAINT-JOUVENT:geo:45.956428,1.20
 3542
END:VEVENT
BEGIN:VTIMEZONE
TZID:Europe/Paris
X-LIC-LOCATION:Europe/Paris
BEGIN:DAYLIGHT
DTSTART:20260329T030000
TZOFFSETFROM:+0100
TZOFFSETTO:+0200
TZNAME:CEST
END:DAYLIGHT
END:VTIMEZONE
END:VCALENDAR