BEGIN:VCALENDAR
VERSION:2.0
PRODID:-//wp-events-plugin.com//7.2.3.1//EN
TZID:Europe/Paris
X-WR-TIMEZONE:Europe/Paris
BEGIN:VEVENT
UID:637@ufolep87.fr
DTSTART;TZID=Europe/Paris:20260307T133000
DTEND;TZID=Europe/Paris:20260307T170000
DTSTAMP:20260122T135910Z
URL:https://ufolep87.fr/evenements/kidbike-didier-gabard
SUMMARY:KidBike DIDIER GABARD
DESCRIPTION:Kid-Bike\nUFOLEP 87 &amp\; US NANATIAT CYCLO
CATEGORIES:Ecole de vélo / Kidbike
LOCATION:gymnase le Dac\, gymnase le Dac \, Nantiat\, France
GEO:46.003411;1.174464
X-APPLE-STRUCTURED-LOCATION;VALUE=URI;X-ADDRESS=gymnase le Dac \, Nantiat\,
  France;X-APPLE-RADIUS=100;X-TITLE=gymnase le Dac:geo:46.003411,1.174464
END:VEVENT
BEGIN:VTIMEZONE
TZID:Europe/Paris
X-LIC-LOCATION:Europe/Paris
BEGIN:STANDARD
DTSTART:20251026T020000
TZOFFSETFROM:+0200
TZOFFSETTO:+0100
TZNAME:CET
END:STANDARD
END:VTIMEZONE
END:VCALENDAR