BEGIN:VCALENDAR
VERSION:2.0
PRODID:-//wp-events-plugin.com//7.2.3.1//EN
TZID:Europe/Paris
X-WR-TIMEZONE:Europe/Paris
BEGIN:VEVENT
UID:618@ufolep87.fr
DTSTART;TZID=Europe/Paris;VALUE=DATE:20260425
DTEND;TZID=Europe/Paris;VALUE=DATE:20260426
DTSTAMP:20250908T133716Z
URL:https://ufolep87.fr/evenements/kidbike-5
SUMMARY:KidBike
DESCRIPTION:Kid-Bike\nUFOLEP 87 &amp\; AMBAZAC SPRINTER CLUB\n\nlieu :Ambaz
 ac\n\ncontact\n\n--&gt\; Jean-Luc Viallesseche -&gt\; ecolevtt@ambazac-spr
 inter-club.fr / 06.07.87.78.99
CATEGORIES:Ecole de vélo / Kidbike
LOCATION:Ambazac\, Ambazac\, Ambazac\, France
GEO:45.958196;1.401922
X-APPLE-STRUCTURED-LOCATION;VALUE=URI;X-ADDRESS=Ambazac\, Ambazac\, France;
 X-APPLE-RADIUS=100;X-TITLE=Ambazac:geo:45.958196,1.401922
END:VEVENT
BEGIN:VTIMEZONE
TZID:Europe/Paris
X-LIC-LOCATION:Europe/Paris
BEGIN:DAYLIGHT
DTSTART:20260329T030000
TZOFFSETFROM:+0100
TZOFFSETTO:+0200
TZNAME:CEST
END:DAYLIGHT
END:VTIMEZONE
END:VCALENDAR