BEGIN:VCALENDAR
VERSION:2.0
PRODID:-//wp-events-plugin.com//7.2.3.1//EN
TZID:Europe/Paris
X-WR-TIMEZONE:Europe/Paris
BEGIN:VEVENT
UID:620@ufolep87.fr
DTSTART;TZID=Europe/Paris;VALUE=DATE:20251011
DTEND;TZID=Europe/Paris;VALUE=DATE:20251012
DTSTAMP:20250924T125907Z
URL:https://ufolep87.fr/evenements/kid-bike-6
SUMMARY:KID BIKE
DESCRIPTION:Kid-Bike\nUFOLEP 87 &amp\; LE VTT MIAULETOU\n\nlieu : SAINT LEO
 NARD DE NOBLAT\n\ncontact\n\n--&gt\; LOUIS ANDRE - levttmiualetou@yahoo.co
 m / 06.49.20.25.90
CATEGORIES:Ecole de vélo / Kidbike
END:VEVENT
BEGIN:VTIMEZONE
TZID:Europe/Paris
X-LIC-LOCATION:Europe/Paris
BEGIN:DAYLIGHT
DTSTART:20250330T030000
TZOFFSETFROM:+0100
TZOFFSETTO:+0200
TZNAME:CEST
END:DAYLIGHT
END:VTIMEZONE
END:VCALENDAR