BEGIN:VCALENDAR
VERSION:2.0
PRODID:-//wp-events-plugin.com//7.2.3.1//EN
TZID:Europe/Paris
X-WR-TIMEZONE:Europe/Paris
BEGIN:VEVENT
UID:99@ufolep87.fr
DTSTART;TZID=Europe/Paris:20230116T194500
DTEND;TZID=Europe/Paris:20230116T194500
DTSTAMP:20230109T145315Z
URL:https://ufolep87.fr/evenements/j-9-isle-1-nantiat
SUMMARY:VOLLEY J.9-ISLE 1 /NANTIAT
DESCRIPTION:Match à 19h45 au gymnase Marcel Lalu à Isle\n\nISLE 1 contre 
 NANTIAT
CATEGORIES:Volley
LOCATION:Gymnase Marcel Lalu\, rue du Taurion\, Isle\, 87170\, France
GEO:45.80988;1.222712
X-APPLE-STRUCTURED-LOCATION;VALUE=URI;X-ADDRESS=rue du Taurion\, Isle\, 871
 70\, France;X-APPLE-RADIUS=100;X-TITLE=Gymnase Marcel Lalu:geo:45.80988,1.
 222712
END:VEVENT
BEGIN:VTIMEZONE
TZID:Europe/Paris
X-LIC-LOCATION:Europe/Paris
BEGIN:STANDARD
DTSTART:20221030T020000
TZOFFSETFROM:+0200
TZOFFSETTO:+0100
TZNAME:CET
END:STANDARD
END:VTIMEZONE
END:VCALENDAR