BEGIN:VCALENDAR
VERSION:2.0
PRODID:-//wp-events-plugin.com//7.2.3.1//EN
TZID:Europe/Paris
X-WR-TIMEZONE:Europe/Paris
BEGIN:VEVENT
UID:96@ufolep87.fr
DTSTART;TZID=Europe/Paris:20230120T210000
DTEND;TZID=Europe/Paris:20230120T210000
DTSTAMP:20230109T145409Z
URL:https://ufolep87.fr/evenements/j-9-cob-feytiat-1
SUMMARY:VOLLEY J.9-COB / FEYTIAT 1
DESCRIPTION:Match à 21h00 au gymnase Blanchot\n\nCOB contre FEYTIAT 1
CATEGORIES:Volley
LOCATION:Gymnase Blanchot\, 26 allée Seurat à la Bastide\, Limoges\, 8700
 0\, France
GEO:45.855711;1.271714
X-APPLE-STRUCTURED-LOCATION;VALUE=URI;X-ADDRESS=26 allée Seurat à la Bast
 ide\, Limoges\, 87000\, France;X-APPLE-RADIUS=100;X-TITLE=Gymnase Blanchot
 :geo:45.855711,1.271714
END:VEVENT
BEGIN:VTIMEZONE
TZID:Europe/Paris
X-LIC-LOCATION:Europe/Paris
BEGIN:STANDARD
DTSTART:20221030T020000
TZOFFSETFROM:+0200
TZOFFSETTO:+0100
TZNAME:CET
END:STANDARD
END:VTIMEZONE
END:VCALENDAR