BEGIN:VCALENDAR
VERSION:2.0
PRODID:-//wp-events-plugin.com//7.2.3.1//EN
TZID:Europe/Paris
X-WR-TIMEZONE:Europe/Paris
BEGIN:VEVENT
UID:101@ufolep87.fr
DTSTART;TZID=Europe/Paris;VALUE=DATE:20230113
DTEND;TZID=Europe/Paris;VALUE=DATE:20230114
DTSTAMP:20230109T145236Z
URL:https://ufolep87.fr/evenements/j-8-roc-condat-2
SUMMARY:VOLLEY J.8-ROC / CONDAT 2
DESCRIPTION:Match à 21h00 au gymnase de Rochechouart\n\nROC contre CONDAT 
 2
CATEGORIES:Volley
LOCATION:Rochechouart\, Rochechouart\, Rochechouart\, France
X-APPLE-STRUCTURED-LOCATION;VALUE=URI;X-ADDRESS=Rochechouart\, Rochechouart
 \, France;X-APPLE-RADIUS=100;X-TITLE=Rochechouart:geo:0,0
END:VEVENT
BEGIN:VTIMEZONE
TZID:Europe/Paris
X-LIC-LOCATION:Europe/Paris
BEGIN:STANDARD
DTSTART:20221030T020000
TZOFFSETFROM:+0200
TZOFFSETTO:+0100
TZNAME:CET
END:STANDARD
END:VTIMEZONE
END:VCALENDAR