BEGIN:VCALENDAR
VERSION:2.0
PRODID:-//wp-events-plugin.com//7.2.3.1//EN
TZID:Europe/Paris
X-WR-TIMEZONE:Europe/Paris
BEGIN:VEVENT
UID:100@ufolep87.fr
DTSTART;TZID=Europe/Paris:20230113T203000
DTEND;TZID=Europe/Paris:20230113T203000
DTSTAMP:20230109T145248Z
URL:https://ufolep87.fr/evenements/j-8-la-souterraine-2-feytiat-2
SUMMARY:VOLLEY J.8-LA SOUTERRAINE 2 / FEYTIAT 2
DESCRIPTION:Match à 20h30 au gymnase Trsitan à la SOUTERRAINE\n\nLA SOUTE
 RRAINE 2 contre FEYTIAT 2
CATEGORIES:Volley
LOCATION:Gymnase Tristan l'Hermitte\, Place d'armes\, La Souterraine\, Fran
 ce
GEO:46.239087;1.482986
X-APPLE-STRUCTURED-LOCATION;VALUE=URI;X-ADDRESS=Place d'armes\, La Souterra
 ine\, France;X-APPLE-RADIUS=100;X-TITLE=Gymnase Tristan l'Hermitte:geo:46.
 239087,1.482986
END:VEVENT
BEGIN:VTIMEZONE
TZID:Europe/Paris
X-LIC-LOCATION:Europe/Paris
BEGIN:STANDARD
DTSTART:20221030T020000
TZOFFSETFROM:+0200
TZOFFSETTO:+0100
TZNAME:CET
END:STANDARD
END:VTIMEZONE
END:VCALENDAR