BEGIN:VCALENDAR
VERSION:2.0
PRODID:-//wp-events-plugin.com//7.2.3.1//EN
TZID:Europe/Paris
X-WR-TIMEZONE:Europe/Paris
BEGIN:VEVENT
UID:102@ufolep87.fr
DTSTART;TZID=Europe/Paris:20230113T204500
DTEND;TZID=Europe/Paris:20230113T204500
DTSTAMP:20230109T145305Z
URL:https://ufolep87.fr/evenements/j-8-condat-1-aplvb-1
SUMMARY:VOLLEY J.8-CONDAT 1 / APLVB 1
DESCRIPTION:Match à 20h45 au gymnase de Condat\n\nCONDAT 1 contre APLVB 1
CATEGORIES:Volley
LOCATION:Gymnase Claude LACHEZE\, Gymnase Claude Lacheze\, Condat-sur-Vienn
 e\, 87920 \, France
GEO:45.788042;1.241283
X-APPLE-STRUCTURED-LOCATION;VALUE=URI;X-ADDRESS=Gymnase Claude Lacheze\, Co
 ndat-sur-Vienne\, 87920 \, France;X-APPLE-RADIUS=100;X-TITLE=Gymnase Claud
 e LACHEZE:geo:45.788042,1.241283
END:VEVENT
BEGIN:VTIMEZONE
TZID:Europe/Paris
X-LIC-LOCATION:Europe/Paris
BEGIN:STANDARD
DTSTART:20221030T020000
TZOFFSETFROM:+0200
TZOFFSETTO:+0100
TZNAME:CET
END:STANDARD
END:VTIMEZONE
END:VCALENDAR