BEGIN:VCALENDAR
VERSION:2.0
PRODID:-//wp-events-plugin.com//7.2.3.1//EN
TZID:Europe/Paris
X-WR-TIMEZONE:Europe/Paris
BEGIN:VEVENT
UID:5@ufolep87.fr
DTSTART;TZID=Europe/Paris;VALUE=DATE:20230604
DTEND;TZID=Europe/Paris;VALUE=DATE:20230605
DTSTAMP:20230104T101312Z
URL:https://ufolep87.fr/evenements/j-7-st-just-2-aplvb-2-2
SUMMARY:TOURNOI VOLLEY APLVB
DESCRIPTION:\n\nTOURNOI APLVB à 10H00 à JEAN LE BAIL OU ST PARDOUX\n\napl
 vb87@gmail.com\n\n\n\nOrganisateur\n\n 	APLVB\n\n
CATEGORIES:Volley
END:VEVENT
BEGIN:VTIMEZONE
TZID:Europe/Paris
X-LIC-LOCATION:Europe/Paris
BEGIN:DAYLIGHT
DTSTART:20230326T030000
TZOFFSETFROM:+0100
TZOFFSETTO:+0200
TZNAME:CEST
END:DAYLIGHT
END:VTIMEZONE
END:VCALENDAR