BEGIN:VCALENDAR
VERSION:2.0
PRODID:-//wp-events-plugin.com//7.2.3.1//EN
TZID:Europe/Paris
X-WR-TIMEZONE:Europe/Paris
BEGIN:VEVENT
UID:8@ufolep87.fr
DTSTART;TZID=Europe/Paris:20230505T200000
DTEND;TZID=Europe/Paris:20230505T200000
DTSTAMP:20230110T074208Z
URL:https://ufolep87.fr/evenements/j-18-st-junien-2-feytiat-2
SUMMARY:VOLLEY J.18-ST JUNIEN 2 / FEYTIAT 2
DESCRIPTION:Match à 20h00 au gymnase Paul Eluard à St Junien\n\nST JUNIEN
  2 contre FEYTIAT 2\n\n&nbsp\;
CATEGORIES:Volley
LOCATION:Gymnase du lycée Paul ELUARD\, rue Léo Lagrange\, SAINT-JUNIEN\,
  87200\, France
GEO:45.895432;0.897237
X-APPLE-STRUCTURED-LOCATION;VALUE=URI;X-ADDRESS=rue Léo Lagrange\, SAINT-J
 UNIEN\, 87200\, France;X-APPLE-RADIUS=100;X-TITLE=Gymnase du lycée Paul E
 LUARD:geo:45.895432,0.897237
END:VEVENT
BEGIN:VTIMEZONE
TZID:Europe/Paris
X-LIC-LOCATION:Europe/Paris
BEGIN:DAYLIGHT
DTSTART:20230326T030000
TZOFFSETFROM:+0100
TZOFFSETTO:+0200
TZNAME:CEST
END:DAYLIGHT
END:VTIMEZONE
END:VCALENDAR