BEGIN:VCALENDAR
VERSION:2.0
PRODID:-//wp-events-plugin.com//7.2.3.1//EN
TZID:Europe/Paris
X-WR-TIMEZONE:Europe/Paris
BEGIN:VEVENT
UID:7@ufolep87.fr
DTSTART;TZID=Europe/Paris:20230505T203000
DTEND;TZID=Europe/Paris:20230505T203000
DTSTAMP:20230110T074304Z
URL:https://ufolep87.fr/evenements/j-18-roc-st-sulpice
SUMMARY:VOLLEY J.18-ROC / ST SULPICE
DESCRIPTION:Match à 20h30 au gymnase de Rochechouart\n\nROC contre ST SULP
 ICE\n\n&nbsp\;
CATEGORIES:Volley
LOCATION:Gymnase de Rochechouart\, Avenue Jean Jaurès\, Rochechouart\, Fra
 nce
GEO:45.824938;0.821384
X-APPLE-STRUCTURED-LOCATION;VALUE=URI;X-ADDRESS=Avenue Jean Jaurès\, Roche
 chouart\, France;X-APPLE-RADIUS=100;X-TITLE=Gymnase de Rochechouart:geo:45
 .824938,0.821384
END:VEVENT
BEGIN:VTIMEZONE
TZID:Europe/Paris
X-LIC-LOCATION:Europe/Paris
BEGIN:DAYLIGHT
DTSTART:20230326T030000
TZOFFSETFROM:+0100
TZOFFSETTO:+0200
TZNAME:CEST
END:DAYLIGHT
END:VTIMEZONE
END:VCALENDAR