BEGIN:VCALENDAR
VERSION:2.0
PRODID:-//wp-events-plugin.com//7.2.3.1//EN
TZID:Europe/Paris
X-WR-TIMEZONE:Europe/Paris
BEGIN:VEVENT
UID:26@ufolep87.fr
DTSTART;TZID=Europe/Paris:20230331T194500
DTEND;TZID=Europe/Paris:20230331T194500
DTSTAMP:20230110T073341Z
URL:https://ufolep87.fr/evenements/j-16-aplvb-2-st-just-2
SUMMARY:VOLLEY J.16-APLVB 2 / ST JUST 2
DESCRIPTION:Match à 19h45 au gymnase Bellevue\n\nAPLVB 2 contre ST JUST 2\
 n\n&nbsp\;
CATEGORIES:Volley
LOCATION:Gymnase Bellevue\, 38 rue Charles Legendre\, Limoges\, 87000\, Fra
 nce
GEO:45.816926;1.247918
X-APPLE-STRUCTURED-LOCATION;VALUE=URI;X-ADDRESS=38 rue Charles Legendre\, L
 imoges\, 87000\, France;X-APPLE-RADIUS=100;X-TITLE=Gymnase Bellevue:geo:45
 .816926,1.247918
END:VEVENT
BEGIN:VTIMEZONE
TZID:Europe/Paris
X-LIC-LOCATION:Europe/Paris
BEGIN:DAYLIGHT
DTSTART:20230326T030000
TZOFFSETFROM:+0100
TZOFFSETTO:+0200
TZNAME:CEST
END:DAYLIGHT
END:VTIMEZONE
END:VCALENDAR