BEGIN:VCALENDAR
VERSION:2.0
PRODID:-//wp-events-plugin.com//7.2.3.1//EN
TZID:Europe/Paris
X-WR-TIMEZONE:Europe/Paris
BEGIN:VEVENT
UID:57@ufolep87.fr
DTSTART;TZID=Europe/Paris:20230310T200000
DTEND;TZID=Europe/Paris:20230310T200000
DTSTAMP:20230110T073036Z
URL:https://ufolep87.fr/evenements/j-13-st-junien-1-isle-1
SUMMARY:VOLLEY J.13-ST JUNIEN 1 / ISLE 1
DESCRIPTION:Match à 20h00 au gymnase Paul Eluard à Saint Junien\n\nST JUN
 IEN 1 contre ISLE 1\n\n&nbsp\;
CATEGORIES:Volley
LOCATION:Gymnase du lycée Paul ELUARD\, rue Léo Lagrange\, SAINT-JUNIEN\,
  87200\, France
GEO:45.895432;0.897237
X-APPLE-STRUCTURED-LOCATION;VALUE=URI;X-ADDRESS=rue Léo Lagrange\, SAINT-J
 UNIEN\, 87200\, France;X-APPLE-RADIUS=100;X-TITLE=Gymnase du lycée Paul E
 LUARD:geo:45.895432,0.897237
END:VEVENT
BEGIN:VTIMEZONE
TZID:Europe/Paris
X-LIC-LOCATION:Europe/Paris
BEGIN:STANDARD
DTSTART:20221030T020000
TZOFFSETFROM:+0200
TZOFFSETTO:+0100
TZNAME:CET
END:STANDARD
END:VTIMEZONE
END:VCALENDAR