BEGIN:VCALENDAR
VERSION:2.0
PRODID:-//wp-events-plugin.com//7.2.3.1//EN
TZID:Europe/Paris
X-WR-TIMEZONE:Europe/Paris
BEGIN:VEVENT
UID:55@ufolep87.fr
DTSTART;TZID=Europe/Paris:20230310T203000
DTEND;TZID=Europe/Paris:20230310T203000
DTSTAMP:20230110T073050Z
URL:https://ufolep87.fr/evenements/j-13-nantiat-landouge-2
SUMMARY:VOLLEY J.13-NANTIAT / LANDOUGE 2
DESCRIPTION:Match à 20h30 au gymnase Le Dac à Nantiat\n\nNANTIAT contre L
 ANDOUGE 2\n\n&nbsp\;
CATEGORIES:Volley
LOCATION:Gymnase de Nantiat\, Rue André Virondeau\, Nantiat\, 87140\, Fran
 ce
GEO:46.004228;1.173465
X-APPLE-STRUCTURED-LOCATION;VALUE=URI;X-ADDRESS=Rue André Virondeau\, Nant
 iat\, 87140\, France;X-APPLE-RADIUS=100;X-TITLE=Gymnase de Nantiat:geo:46.
 004228,1.173465
END:VEVENT
BEGIN:VTIMEZONE
TZID:Europe/Paris
X-LIC-LOCATION:Europe/Paris
BEGIN:STANDARD
DTSTART:20221030T020000
TZOFFSETFROM:+0200
TZOFFSETTO:+0100
TZNAME:CET
END:STANDARD
END:VTIMEZONE
END:VCALENDAR