BEGIN:VCALENDAR
VERSION:2.0
PRODID:-//wp-events-plugin.com//7.2.3.1//EN
TZID:Europe/Paris
X-WR-TIMEZONE:Europe/Paris
BEGIN:VEVENT
UID:61@ufolep87.fr
DTSTART;TZID=Europe/Paris:20230303T203000
DTEND;TZID=Europe/Paris:20230303T203000
DTSTAMP:20230110T073000Z
URL:https://ufolep87.fr/evenements/j-13-landouge-m18-condat-1
SUMMARY:VOLLEY J.12-LA SOUTERRAINE 2 / ISLE 2
DESCRIPTION:Match à 20h30 au gymnase Tristan à la Souterraine\n\nLA SOUTE
 RRAINE contre ISLE\n\n&nbsp\;
CATEGORIES:Volley
LOCATION:Gymnase Tristan l'Hermitte\, Place d'armes\, La Souterraine\, Fran
 ce
GEO:46.239087;1.482986
X-APPLE-STRUCTURED-LOCATION;VALUE=URI;X-ADDRESS=Place d'armes\, La Souterra
 ine\, France;X-APPLE-RADIUS=100;X-TITLE=Gymnase Tristan l'Hermitte:geo:46.
 239087,1.482986
END:VEVENT
BEGIN:VTIMEZONE
TZID:Europe/Paris
X-LIC-LOCATION:Europe/Paris
BEGIN:STANDARD
DTSTART:20221030T020000
TZOFFSETFROM:+0200
TZOFFSETTO:+0100
TZNAME:CET
END:STANDARD
END:VTIMEZONE
END:VCALENDAR