BEGIN:VCALENDAR
VERSION:2.0
PRODID:-//wp-events-plugin.com//7.2.3.1//EN
TZID:Europe/Paris
X-WR-TIMEZONE:Europe/Paris
BEGIN:VEVENT
UID:60@ufolep87.fr
DTSTART;TZID=Europe/Paris:20230306T194500
DTEND;TZID=Europe/Paris:20230306T194500
DTSTAMP:20230110T073026Z
URL:https://ufolep87.fr/evenements/j-13-isle-2-st-junien-2
SUMMARY:VOLLEY J.13-ISLE 2 / ST JUNIEN 2
DESCRIPTION:Match à 19h45 au gymnase MARCEL LALU à Isle\n\nISLES 2 contre
  ST JUNIEN 2\n\n&nbsp\;
CATEGORIES:Volley
LOCATION:Gymnase Marcel Lalu\, rue du Taurion\, Isle\, 87170\, France
GEO:45.80988;1.222712
X-APPLE-STRUCTURED-LOCATION;VALUE=URI;X-ADDRESS=rue du Taurion\, Isle\, 871
 70\, France;X-APPLE-RADIUS=100;X-TITLE=Gymnase Marcel Lalu:geo:45.80988,1.
 222712
END:VEVENT
BEGIN:VTIMEZONE
TZID:Europe/Paris
X-LIC-LOCATION:Europe/Paris
BEGIN:STANDARD
DTSTART:20221030T020000
TZOFFSETFROM:+0200
TZOFFSETTO:+0100
TZNAME:CET
END:STANDARD
END:VTIMEZONE
END:VCALENDAR