BEGIN:VCALENDAR
VERSION:2.0
PRODID:-//wp-events-plugin.com//7.2.3.1//EN
TZID:Europe/Paris
X-WR-TIMEZONE:Europe/Paris
BEGIN:VEVENT
UID:54@ufolep87.fr
DTSTART;TZID=Europe/Paris:20230310T203000
DTEND;TZID=Europe/Paris:20230310T203000
DTSTAMP:20230110T073046Z
URL:https://ufolep87.fr/evenements/j-13-boisseuil-cob
SUMMARY:VOLLEY J.13-BOISSEUIL / COB
DESCRIPTION:Match à 20h30 au gymnase de Boisseuil\n\nBOISSEUIL contre COB\
 n\n&nbsp\;
CATEGORIES:Volley
LOCATION:Gymnase de Boisseuil\, Complexe sportif rue du Vigen\, Boisseuil\,
  87220\, France
GEO:45.769285;1.329507
X-APPLE-STRUCTURED-LOCATION;VALUE=URI;X-ADDRESS=Complexe sportif rue du Vig
 en\, Boisseuil\, 87220\, France;X-APPLE-RADIUS=100;X-TITLE=Gymnase de Bois
 seuil:geo:45.769285,1.329507
END:VEVENT
BEGIN:VTIMEZONE
TZID:Europe/Paris
X-LIC-LOCATION:Europe/Paris
BEGIN:STANDARD
DTSTART:20221030T020000
TZOFFSETFROM:+0200
TZOFFSETTO:+0100
TZNAME:CET
END:STANDARD
END:VTIMEZONE
END:VCALENDAR