BEGIN:VCALENDAR
VERSION:2.0
PRODID:-//wp-events-plugin.com//7.2.3.1//EN
TZID:Europe/Paris
X-WR-TIMEZONE:Europe/Paris
BEGIN:VEVENT
UID:79@ufolep87.fr
DTSTART;TZID=Europe/Paris:20230223T204500
DTEND;TZID=Europe/Paris:20230223T204500
DTSTAMP:20230109T145513Z
URL:https://ufolep87.fr/evenements/j-11-cvl-3-condat-2
SUMMARY:VOLLEY J.11-CVL 3 / CONDAT 2
DESCRIPTION:Match à 20h45 au gymnase de STE CLAIRE\n\nCVL3 contre CONDAT 2
CATEGORIES:Volley
LOCATION:Gymnase Sainte Claire\, 86 Rue Sainte-Claire\, Limoges\, France
GEO:45.824281;1.242788
X-APPLE-STRUCTURED-LOCATION;VALUE=URI;X-ADDRESS=86 Rue Sainte-Claire\, Limo
 ges\, France;X-APPLE-RADIUS=100;X-TITLE=Gymnase Sainte Claire:geo:45.82428
 1,1.242788
END:VEVENT
BEGIN:VTIMEZONE
TZID:Europe/Paris
X-LIC-LOCATION:Europe/Paris
BEGIN:STANDARD
DTSTART:20221030T020000
TZOFFSETFROM:+0200
TZOFFSETTO:+0100
TZNAME:CET
END:STANDARD
END:VTIMEZONE
END:VCALENDAR