BEGIN:VCALENDAR
VERSION:2.0
PRODID:-//wp-events-plugin.com//7.2.3.1//EN
TZID:Europe/Paris
X-WR-TIMEZONE:Europe/Paris
BEGIN:VEVENT
UID:713@ufolep87.fr
DTSTART;TZID=Europe/Paris:20261018T083000
DTEND;TZID=Europe/Paris:20261018T180000
DTSTAMP:20251205T111357Z
URL:https://ufolep87.fr/evenements/interclubs-petanque
SUMMARY:INTERCLUBS PETANQUE
DESCRIPTION:Club: LJL LIMOGES PETANQUE\n\nLieu: Boulodrome de Limoges\n\nHo
 raire: 8h30\n\nInformations complémentaires: \n\n 	\nJet de but à 8h30\
 n\n 	\nBoulodrome de Limoges\n\n 	\nInscription &amp\; Restauration (voir 
 plaquette organisation)\n\n\nOrganisateur : POURIEUX Laurence --&gt\; dlau
 rence2@aol.com\n\n&nbsp\;\n\n&nbsp\;\n\n&nbsp\;\n\n&nbsp\;\n\n&nbsp\;\n\n&
 nbsp\;\n\n&nbsp\;\n\n&nbsp\;\n\n&nbsp\;\n\n&nbsp\;\n\n&nbsp\;\n\n&nbsp\;\n
 \n&nbsp\;\n\n&nbsp\;\n\n&nbsp\;\n\n&nbsp\;\n\n&nbsp\;\n\n&nbsp\;\n\n&nbsp\
 ;\n\n&nbsp\;\n\n&nbsp\;\n\n&nbsp\;\n\n&nbsp\;\n\n&nbsp\;\n\n&nbsp\;\n\n&nb
 sp\;\n\n&nbsp\;\n\n&nbsp\;\n\n&nbsp\;\n\n&nbsp\;\n\n&nbsp\;\n\n&nbsp\;\n\n
 &nbsp\;\n\n&nbsp\;\n\n&nbsp\;\n\n&nbsp\;\n\n&nbsp\;\n\n&nbsp\;\n\n&nbsp\;\
 n\n&nbsp\;\n\n&nbsp\;\n\n&nbsp\;\n\n&nbsp\;\n\n&nbsp\;\n\n&nbsp\;\n\n&nbsp
 \;\n\n&nbsp\;\n\n&nbsp\;\n\n&nbsp\;\n\n&nbsp\;\n\n&nbsp\;\n\n&nbsp\;
CATEGORIES:Pétanque
LOCATION:Boulodrome Limoges\, Boulodrome Limoges\, Limoges\, France
GEO:45.833619;1.261105
X-APPLE-STRUCTURED-LOCATION;VALUE=URI;X-ADDRESS=Boulodrome Limoges\, Limoge
 s\, France;X-APPLE-RADIUS=100;X-TITLE=Boulodrome Limoges:geo:45.833619,1.2
 61105
END:VEVENT
BEGIN:VTIMEZONE
TZID:Europe/Paris
X-LIC-LOCATION:Europe/Paris
BEGIN:DAYLIGHT
DTSTART:20260329T030000
TZOFFSETFROM:+0100
TZOFFSETTO:+0200
TZNAME:CEST
END:DAYLIGHT
END:VTIMEZONE
END:VCALENDAR