BEGIN:VCALENDAR
VERSION:2.0
PRODID:-//wp-events-plugin.com//7.2.3.1//EN
TZID:Europe/Paris
X-WR-TIMEZONE:Europe/Paris
BEGIN:VEVENT
UID:673@ufolep87.fr
DTSTART;TZID=Europe/Paris:20260626T183000
DTEND;TZID=Europe/Paris:20260626T204500
DTSTAMP:20251203T104055Z
URL:https://ufolep87.fr/evenements/granit-montana-trail-2
SUMMARY:GRANIT MONTANA TRAIL
DESCRIPTION:Club: AMBAZAC SPRINTER CLUB\n\nLieu: Ambazac - SAINT SYLVESTRE\
 n\nHoraires: 18h30\n\nCircuits :  départ 18h30 : 6 km / 13 km / 20 km\n
 \nOrganisateur :\n\nGhislain POIAGHI - ambazacsprinterclub@gmail.com - 06.
 75.73.85.79\n\n&nbsp\;\n\n&nbsp\;\n\n&nbsp\;\n\n&nbsp\;\n\n&nbsp\;\n\n&nbs
 p\;\n\n&nbsp\;\n\n&nbsp\;\n\n&nbsp\;\n\n&nbsp\;
CATEGORIES:trail
LOCATION:Ambazac\, Ambazac\, Ambazac\, France
GEO:45.958196;1.401922
X-APPLE-STRUCTURED-LOCATION;VALUE=URI;X-ADDRESS=Ambazac\, Ambazac\, France;
 X-APPLE-RADIUS=100;X-TITLE=Ambazac:geo:45.958196,1.401922
END:VEVENT
BEGIN:VTIMEZONE
TZID:Europe/Paris
X-LIC-LOCATION:Europe/Paris
BEGIN:DAYLIGHT
DTSTART:20260329T030000
TZOFFSETFROM:+0100
TZOFFSETTO:+0200
TZNAME:CEST
END:DAYLIGHT
END:VTIMEZONE
END:VCALENDAR