BEGIN:VCALENDAR
VERSION:2.0
PRODID:-//wp-events-plugin.com//7.2.3.1//EN
TZID:Europe/Paris
X-WR-TIMEZONE:Europe/Paris
BEGIN:VEVENT
UID:669@ufolep87.fr
DTSTART;TZID=Europe/Paris:20260614T073000
DTEND;TZID=Europe/Paris:20260614T130000
DTSTAMP:20251128T162555Z
URL:https://ufolep87.fr/evenements/granit-aventure
SUMMARY:GRANIT AVENTURE
DESCRIPTION:Club: AMBAZAC SPRINTER CLUB\n\nLieu: Ambazac - ETANG DE JONAS\n
 \nHoraires: 7h30\n\nCircuits :  départ 7h30 pour 75km - départ à 8h00
  pour 55km - départ à 8h30 pour 35km\n\nInformation complémentaire: Eng
 agement recommandé sur helloasso.com\n\nGratuit pour les -16 ans // Major
 ation de 5€ sur place\n\nOrganisateur :\n\nGhislain POIAGHI - ambazacspr
 interclub@gmail.com - 06.75.73.85.79\n\n&nbsp\;\n\n&nbsp\;\n\n&nbsp\;\n\n&
 nbsp\;\n\n&nbsp\;\n\n&nbsp\;\n\n&nbsp\;\n\n&nbsp\;\n\n&nbsp\;\n\n&nbsp\;
CATEGORIES:trail
LOCATION:Ambazac\, Ambazac\, Ambazac\, France
GEO:45.958196;1.401922
X-APPLE-STRUCTURED-LOCATION;VALUE=URI;X-ADDRESS=Ambazac\, Ambazac\, France;
 X-APPLE-RADIUS=100;X-TITLE=Ambazac:geo:45.958196,1.401922
END:VEVENT
BEGIN:VTIMEZONE
TZID:Europe/Paris
X-LIC-LOCATION:Europe/Paris
BEGIN:DAYLIGHT
DTSTART:20260329T030000
TZOFFSETFROM:+0100
TZOFFSETTO:+0200
TZNAME:CEST
END:DAYLIGHT
END:VTIMEZONE
END:VCALENDAR