BEGIN:VCALENDAR
VERSION:2.0
PRODID:-//wp-events-plugin.com//7.2.3.1//EN
TZID:Europe/Paris
X-WR-TIMEZONE:Europe/Paris
BEGIN:VEVENT
UID:681@ufolep87.fr
DTSTART;TZID=Europe/Paris:20260808T150000
DTEND;TZID=Europe/Paris:20260808T183000
DTSTAMP:20260325T124534Z
URL:https://ufolep87.fr/evenements/grand-prix-de-la-saint-etienne-4
SUMMARY:GRAND PRIX DE LA SAINT ETIENNE
DESCRIPTION:Club: SPORTS VELO DU PAYS BASSE MARCHE\n\nLieu: LUSSAC LES EGL
 ISES\n\nHoraire: 14h00\n\nCircuits :\n\n 	départ 15h00 - 88km\n 	départ 
 15h02 - 77km\n 	départ 15h05 - 66km\n 	départ 15h06 - 55km\n 	11/12 dép
 art 15h06 - 11km\n 	13/14 départ 15h07 - 33 km\n 	15/16 départ 15h04 - 4
 4 km\n\nInformations complémentaires :\n\n 	ENGAGEMENTS EXCLUSIVEMENT PAR
  INTERNET SUR LE SITE NATIONAL\n 	AUCUN ENGAGEMENT SUR PLACE\n\nOrganisate
 ur:\n\nDAMIEN ROY : svpbm@hotmail.com/ 06.10.42.20.02
CATEGORIES:Cyclosport
LOCATION:LUSSAC LES EGLISES 87\, LUSSAC LES EGLISES 87\, LUSSAC LES EGLISES
  87\, France
GEO:46.346151;1.172819
X-APPLE-STRUCTURED-LOCATION;VALUE=URI;X-ADDRESS=LUSSAC LES EGLISES 87\, LUS
 SAC LES EGLISES 87\, France;X-APPLE-RADIUS=100;X-TITLE=LUSSAC LES EGLISES 
 87:geo:46.346151,1.172819
END:VEVENT
BEGIN:VTIMEZONE
TZID:Europe/Paris
X-LIC-LOCATION:Europe/Paris
BEGIN:DAYLIGHT
DTSTART:20260329T030000
TZOFFSETFROM:+0100
TZOFFSETTO:+0200
TZNAME:CEST
END:DAYLIGHT
END:VTIMEZONE
END:VCALENDAR