BEGIN:VCALENDAR
VERSION:2.0
PRODID:-//wp-events-plugin.com//7.2.3.1//EN
TZID:Europe/Paris
X-WR-TIMEZONE:Europe/Paris
BEGIN:VEVENT
UID:3@ufolep87.fr
DTSTART;TZID=Europe/Paris:20230108T083000
DTEND;TZID=Europe/Paris:20230108T180000
DTSTAMP:20221220T142115Z
URL:https://ufolep87.fr/evenements/cross-departemental-a-bonnac-la-cote
SUMMARY:Cross Départemental à Bonnac la Côte
DESCRIPTION:
CATEGORIES:Athlétisme
END:VEVENT
BEGIN:VTIMEZONE
TZID:Europe/Paris
X-LIC-LOCATION:Europe/Paris
BEGIN:STANDARD
DTSTART:20221030T020000
TZOFFSETFROM:+0200
TZOFFSETTO:+0100
TZNAME:CET
END:STANDARD
END:VTIMEZONE
END:VCALENDAR