BEGIN:VCALENDAR
VERSION:2.0
PRODID:-//wp-events-plugin.com//7.2.3.1//EN
TZID:Europe/Paris
X-WR-TIMEZONE:Europe/Paris
BEGIN:VEVENT
UID:646@ufolep87.fr
DTSTART;TZID=Europe/Paris:20260412T130000
DTEND;TZID=Europe/Paris:20260412T170000
DTSTAMP:20251128T145941Z
URL:https://ufolep87.fr/evenements/course-vtt-x-country-des-castors-2
SUMMARY:Course VTT X-Country des Castors
DESCRIPTION:Club organisateur: Guidon Bellachon Sports de pleine nature\n\n
 Horaire:\n\n 	départ 13h30 pour 11/12 - 13/14\n 	départ 14h30 pour 15/16
  - 60 + M - 17/19 - 20/29 - 30/39 - 40-49 - 50/59\n 	départ 15h00 pour 17
 /19 - 20/29 - 30/39 - 40/49 - 50/59\n\nLieu: Lieu dit village "Saint-Sauve
 ur" commune de Bellac\n\nInformations complémentaires: Sur un site éco 
 responsable «Parking» et circuit 40 % en zone natura 2000 sur les bords 
 des rives du Vincou. Point d’eau et des toillettes séches\, restauratio
 n sur réservation\, atelier de réparation des cycles proposer par Bella
 ’Cycles avec\ndépannage et entretien.\n\nContact : GAILLEDRAT Antoine -
 -&gt\; guidon.bellachon.spdn@gmail.com / Tel: 06 86 93 26 32 et Ludovic BO
 OS au 06.14.99.58.21\n\n&nbsp\;
ATTACH;FMTTYPE=image/jpeg:https://ufolep87.fr/wp-content/uploads/2023/02/A
 ffiche-x-country-23.jpg
CATEGORIES:Activités cyclistes ,VTT en compétition
LOCATION:"Saint-Sauveur" BELLAC\, "Saint-Sauveur" \, bellac\, 87300\, Franc
 e
GEO:46.109436;1.062955
X-APPLE-STRUCTURED-LOCATION;VALUE=URI;X-ADDRESS=\"Saint-Sauveur\" \, bellac
 \, 87300\, France;X-APPLE-RADIUS=100;X-TITLE=\"Saint-Sauveur\" BELLAC:geo:
 46.109436,1.062955
END:VEVENT
BEGIN:VTIMEZONE
TZID:Europe/Paris
X-LIC-LOCATION:Europe/Paris
BEGIN:DAYLIGHT
DTSTART:20260329T030000
TZOFFSETFROM:+0100
TZOFFSETTO:+0200
TZNAME:CEST
END:DAYLIGHT
END:VTIMEZONE
END:VCALENDAR