BEGIN:VCALENDAR
VERSION:2.0
PRODID:-//wp-events-plugin.com//7.2.3.1//EN
TZID:Europe/Paris
X-WR-TIMEZONE:Europe/Paris
BEGIN:VEVENT
UID:658@ufolep87.fr
DTSTART;TZID=Europe/Paris:20260517T130000
DTEND;TZID=Europe/Paris:20260517T173000
DTSTAMP:20251128T155701Z
URL:https://ufolep87.fr/evenements/course-de-puygibaud-4
SUMMARY:Course de Puygibaud
DESCRIPTION:Club: VELO CLUB MAGNAC-LAVAL\n\nLieu: 87190  Puygibaud MAGNAC-
 LAVAL\n\nHoraire: 15h00\n\nCircuit : \n\n 	départ 15h00 - 76km\n 	dépar
 t 15h02 - 66.5km\n 	départ 15h04 - 57km\n 	départ 13H32 - 47.5km\n 	11/1
 2 ans départ 13h36 - 9.5km\n 	13/14 ans départ 13h34- 38km\n 	15/16 ans 
 départ 13h30 - 47.5km\n\nInformation complémentaire:\n\n 	Engagement en 
 ligne obligatoire sur le site national UFOLEP Cyclisme: https://www.ufole
 p-cyclisme.org/\n 	Point d'eau potable et récompenses\n 	Gratuit pour les
  -16 ans\n\nOrganisateur: Eric DUBIS --&gt\; dubiseric@gmail.com / Tel: 0
 6.75.87.89.33 et LALLEMENT Vincent --&gt\; veloclubml87@gmail.com / 06.65.
 62.64.00\n\n&nbsp\;\n\n&nbsp\;\n\n&nbsp\;\n\n&nbsp\;\n\n&nbsp\;\n\n&nbsp\;
 \n\n&nbsp\;\n\n&nbsp\;\n\n&nbsp\;\n\n&nbsp\;\n\n&nbsp\;\n\n&nbsp\;\n\n&nbs
 p\;\n\n&nbsp\;\n\n&nbsp\;
CATEGORIES:Cyclosport
LOCATION:Puygibaud\, Puygibaud \, Magnac-Laval\, 87190\, France
GEO:46.226469;1.144155
X-APPLE-STRUCTURED-LOCATION;VALUE=URI;X-ADDRESS=Puygibaud \, Magnac-Laval\,
  87190\, France;X-APPLE-RADIUS=100;X-TITLE=Puygibaud:geo:46.226469,1.14415
 5
END:VEVENT
BEGIN:VTIMEZONE
TZID:Europe/Paris
X-LIC-LOCATION:Europe/Paris
BEGIN:DAYLIGHT
DTSTART:20260329T030000
TZOFFSETFROM:+0100
TZOFFSETTO:+0200
TZNAME:CEST
END:DAYLIGHT
END:VTIMEZONE
END:VCALENDAR