BEGIN:VCALENDAR
VERSION:2.0
PRODID:-//wp-events-plugin.com//7.2.3.1//EN
TZID:Europe/Paris
X-WR-TIMEZONE:Europe/Paris
BEGIN:VEVENT
UID:679@ufolep87.fr
DTSTART;TZID=Europe/Paris:20260726T150000
DTEND;TZID=Europe/Paris:20260726T150000
DTSTAMP:20251203T150328Z
URL:https://ufolep87.fr/evenements/course-cyclosport-2
SUMMARY:Course CYCLOSPORT
DESCRIPTION:Club organisateur : SVPBM\n\nLieu : Saint SORNIN LEULAC\n\nHora
 ire : 15h\n\nCircuits : \n\n 	Départ 15h00 - 84 km\n 	Départ 15h02 - 72
  km\n 	Départ 15h04 - 72km\n 	Départ 15h06 - 60km\n 	11/12 départ 15h06
  - 12km\n 	13/14 départ 15h07 - 24 km\n 	15/16 départ 15h04 - 48km\n\n&n
 bsp\;\n\nInformations : \n\n 	Engagement uniquement en ligne sur le site 
 national UFOLEP CYCLISME : www.ufolep-cyclisme.org\n 	Gratuit pour les -16
  ans\n 	Majoration de 2€ sur place / licenciés UFOLEP adulte = 6€\n\n
 Contact : ROY Damien 06 10 42 20 02\n\n&nbsp\;
CATEGORIES:Activités cyclistes ,Cyclosport
LOCATION:saint sornin leulac 87290\, saint sornin leulac 87290\, saint sorn
 in leulac 87290\, France
GEO:46.198293;1.298152
X-APPLE-STRUCTURED-LOCATION;VALUE=URI;X-ADDRESS=saint sornin leulac 87290\,
  saint sornin leulac 87290\, France;X-APPLE-RADIUS=100;X-TITLE=saint sorni
 n leulac 87290:geo:46.198293,1.298152
END:VEVENT
BEGIN:VTIMEZONE
TZID:Europe/Paris
X-LIC-LOCATION:Europe/Paris
BEGIN:DAYLIGHT
DTSTART:20260329T030000
TZOFFSETFROM:+0100
TZOFFSETTO:+0200
TZNAME:CEST
END:DAYLIGHT
END:VTIMEZONE
END:VCALENDAR