BEGIN:VCALENDAR
VERSION:2.0
PRODID:-//wp-events-plugin.com//7.2.3.1//EN
TZID:Europe/Paris
X-WR-TIMEZONE:Europe/Paris
BEGIN:VEVENT
UID:707@ufolep87.fr
DTSTART;TZID=Europe/Paris;VALUE=DATE:20260801
DTEND;TZID=Europe/Paris;VALUE=DATE:20260802
DTSTAMP:20251205T110020Z
URL:https://ufolep87.fr/evenements/concours-tete-a-tete-doublette-petanque
 -3
SUMMARY:Concours Tête à Tête / Doublette Pétanque
DESCRIPTION:\nClub: Amicale Bouliste D'ArfeuilleLieu: Boulodrome de Saint-Y
 rieix La PercheHoraire:\n\n 	09h00 TAT - AB\n 	14h15 D - Concours ABC\n\nI
 nformations complémentaires : \n\n 	Concours Tête à Tête 9h\n 	Concou
 rs Doublette 14h\n 	Ouvert à Tous\n\nOrganisateur : =Alain Malo –&gt\; 
 amicale.bouliste.arfeuille.87@gmail.com\n\n\n\n\n\n
CATEGORIES:Pétanque
LOCATION:Boulodrome St-Yrieix\, Boulodrome St-Yrieix\, St-Yrieix\, France
GEO:45.51379;1.203059
X-APPLE-STRUCTURED-LOCATION;VALUE=URI;X-ADDRESS=Boulodrome St-Yrieix\, St-Y
 rieix\, France;X-APPLE-RADIUS=100;X-TITLE=Boulodrome St-Yrieix:geo:45.5137
 9,1.203059
END:VEVENT
BEGIN:VTIMEZONE
TZID:Europe/Paris
X-LIC-LOCATION:Europe/Paris
BEGIN:DAYLIGHT
DTSTART:20260329T030000
TZOFFSETFROM:+0100
TZOFFSETTO:+0200
TZNAME:CEST
END:DAYLIGHT
END:VTIMEZONE
END:VCALENDAR