BEGIN:VCALENDAR
VERSION:2.0
PRODID:-//wp-events-plugin.com//7.2.3.1//EN
TZID:Europe/Paris
X-WR-TIMEZONE:Europe/Paris
BEGIN:VEVENT
UID:696@ufolep87.fr
DTSTART;TZID=Europe/Paris:20260419T140000
DTEND;TZID=Europe/Paris:20260419T173000
DTSTAMP:20251205T102836Z
URL:https://ufolep87.fr/evenements/concours-petanque-triplettes
SUMMARY:Concours Pétanque Triplettes
DESCRIPTION:Club: Landouge - Loisirs\n\nLieu: Stade Michel Giraudon - Lando
 uge - 87100 Limoges\n\nHoraire: 14h15\n\n4 parties de 1h\n\nOrganisateur :
  BRUN Philippe --&gt\; davidgirard42@sfr.fr\n\n&nbsp\;\n\n&nbsp\;\n\n&nbsp
 \;\n\n&nbsp\;\n\n&nbsp\;\n\n&nbsp\;\n\n&nbsp\;\n\n&nbsp\;\n\n&nbsp\;\n\n&n
 bsp\;\n\n&nbsp\;\n\n&nbsp\;\n\n&nbsp\;\n\n&nbsp\;\n\n&nbsp\;\n\n&nbsp\;\n\
 n&nbsp\;\n\n&nbsp\;\n\n&nbsp\;\n\n&nbsp\;\n\n&nbsp\;\n\n&nbsp\;\n\n&nbsp\;
 \n\n&nbsp\;\n\n&nbsp\;\n\n&nbsp\;\n\n&nbsp\;\n\n&nbsp\;\n\n&nbsp\;\n\n&nbs
 p\;\n\n&nbsp\;\n\n&nbsp\;\n\n&nbsp\;\n\n&nbsp\;\n\n&nbsp\;\n\n&nbsp\;\n\n&
 nbsp\;\n\n&nbsp\;
CATEGORIES:Pétanque
LOCATION:Stade Michel Giraudon - Landouge  - 87100 Limoges\, Stade Michel 
 Giraudon - Landouge  - 87100 Limoges\, Limoges\, France
GEO:45.840125;1.194952
X-APPLE-STRUCTURED-LOCATION;VALUE=URI;X-ADDRESS=Stade Michel Giraudon - Lan
 douge  - 87100 Limoges\, Limoges\, France;X-APPLE-RADIUS=100;X-TITLE=Stad
 e Michel Giraudon - Landouge  - 87100 Limoges:geo:45.840125,1.194952
END:VEVENT
BEGIN:VTIMEZONE
TZID:Europe/Paris
X-LIC-LOCATION:Europe/Paris
BEGIN:DAYLIGHT
DTSTART:20260329T030000
TZOFFSETFROM:+0100
TZOFFSETTO:+0200
TZNAME:CEST
END:DAYLIGHT
END:VTIMEZONE
END:VCALENDAR