BEGIN:VCALENDAR
VERSION:2.0
PRODID:-//wp-events-plugin.com//7.2.3.1//EN
TZID:Europe/Paris
X-WR-TIMEZONE:Europe/Paris
BEGIN:VEVENT
UID:714@ufolep87.fr
DTSTART;TZID=Europe/Paris:20261031T140000
DTEND;TZID=Europe/Paris:20261031T170000
DTSTAMP:20251205T111442Z
URL:https://ufolep87.fr/evenements/concours-petanque-en-doublette-6
SUMMARY:Concours Pétanque en Doublette
DESCRIPTION:Club organisateur : Amicale Pétanque de Nexon\n\nConcours ABC 
 - Non limité\n\nBoulodrome de Limoges\n\n&nbsp\;
CATEGORIES:Pétanque
LOCATION:Boulodrome Limoges\, Boulodrome Limoges\, Limoges\, France
GEO:45.833619;1.261105
X-APPLE-STRUCTURED-LOCATION;VALUE=URI;X-ADDRESS=Boulodrome Limoges\, Limoge
 s\, France;X-APPLE-RADIUS=100;X-TITLE=Boulodrome Limoges:geo:45.833619,1.2
 61105
END:VEVENT
BEGIN:VTIMEZONE
TZID:Europe/Paris
X-LIC-LOCATION:Europe/Paris
BEGIN:STANDARD
DTSTART:20261025T020000
TZOFFSETFROM:+0200
TZOFFSETTO:+0100
TZNAME:CET
END:STANDARD
END:VTIMEZONE
END:VCALENDAR