BEGIN:VCALENDAR
VERSION:2.0
PRODID:-//wp-events-plugin.com//7.2.3.1//EN
TZID:Europe/Paris
X-WR-TIMEZONE:Europe/Paris
BEGIN:VEVENT
UID:716@ufolep87.fr
DTSTART;TZID=Europe/Paris:20261121T140000
DTEND;TZID=Europe/Paris:20261121T173000
DTSTAMP:20251205T111658Z
URL:https://ufolep87.fr/evenements/concours-doublettes-petanque-34
SUMMARY:Concours Doublettes Pétanque
DESCRIPTION:Club: Bosmie l'Aiguille\n\nConcours ABC\n\nLieu: Plaine des jeu
 x - Avenue de la Libération 87110 Bosmie l'Aiguille\n\nHoraire: 14h00 \n
 \nOrganisateurs : MALO Alain et COSTA Dominique --&gt\; bosmie87petanq@gma
 il.com\n\n 	4 parties de 1h \n 	Limité à 64 équipes\n 	Pré-inscription
 s au 06.32.32.34.62\n 	Boulodrome de Limoges\n\n&nbsp\;\n\n&nbsp\;\n\n&nbs
 p\;\n\n&nbsp\;\n\n&nbsp\;\n\n&nbsp\;\n\n&nbsp\;\n\n&nbsp\;\n\n&nbsp\;\n\n&
 nbsp\;\n\n&nbsp\;\n\n&nbsp\;\n\n&nbsp\;\n\n&nbsp\;\n\n&nbsp\;\n\n&nbsp\;\n
 \n&nbsp\;\n\n&nbsp\;\n\n&nbsp\;\n\n&nbsp\;\n\n&nbsp\;\n\n&nbsp\;\n\n&nbsp\
 ;\n\n&nbsp\;\n\n&nbsp\;\n\n&nbsp\;\n\n&nbsp\;\n\n&nbsp\;\n\n&nbsp\;\n\n&nb
 sp\;\n\n&nbsp\;
CATEGORIES:Pétanque
LOCATION:Plaine des jeux - Avenue de la Libération 87110 Bosmie l'Aiguille
 \, Plaine des jeux - Avenue de la Libération 87110 Bosmie l'Aiguille\, Bo
 smie l'Aiguille\, France
GEO:45.762073;1.209777
X-APPLE-STRUCTURED-LOCATION;VALUE=URI;X-ADDRESS=Plaine des jeux - Avenue de
  la Libération 87110 Bosmie l'Aiguille\, Bosmie l'Aiguille\, France;X-APP
 LE-RADIUS=100;X-TITLE=Plaine des jeux - Avenue de la Libération 87110 Bos
 mie l'Aiguille:geo:45.762073,1.209777
END:VEVENT
BEGIN:VTIMEZONE
TZID:Europe/Paris
X-LIC-LOCATION:Europe/Paris
BEGIN:STANDARD
DTSTART:20261025T020000
TZOFFSETFROM:+0200
TZOFFSETTO:+0100
TZNAME:CET
END:STANDARD
END:VTIMEZONE
END:VCALENDAR