BEGIN:VCALENDAR
VERSION:2.0
PRODID:-//wp-events-plugin.com//7.2.3.1//EN
TZID:Europe/Paris
X-WR-TIMEZONE:Europe/Paris
BEGIN:VEVENT
UID:709@ufolep87.fr
DTSTART;TZID=Europe/Paris:20260822T140000
DTEND;TZID=Europe/Paris:20260822T140000
DTSTAMP:20251205T110219Z
URL:https://ufolep87.fr/evenements/concours-doublettes-petanque-32
SUMMARY:Concours Doublettes Pétanque
DESCRIPTION:Club: Bosmie l'Aiguille\n\nConcours ABC\n\nLieu: Plaine des jeu
 x - Avenue de la Libération 87110 Bosmie l'Aiguille\n\nHoraire: 14h00\n\n
 Organisateurs : MALO Alain et COSTA Dominique --&gt\; bosmie87petanq@gmail
 .com\n\n&nbsp\;\n\n&nbsp\;\n\n&nbsp\;\n\n&nbsp\;\n\n&nbsp\;\n\n&nbsp\;\n\n
 &nbsp\;\n\n&nbsp\;\n\n&nbsp\;\n\n&nbsp\;\n\n&nbsp\;\n\n&nbsp\;\n\n&nbsp\;\
 n\n&nbsp\;\n\n&nbsp\;\n\n&nbsp\;\n\n&nbsp\;\n\n&nbsp\;\n\n&nbsp\;\n\n&nbsp
 \;\n\n&nbsp\;\n\n&nbsp\;\n\n&nbsp\;\n\n&nbsp\;\n\n&nbsp\;\n\n&nbsp\;\n\n&n
 bsp\;\n\n&nbsp\;\n\n&nbsp\;\n\n&nbsp\;\n\n&nbsp\;
CATEGORIES:Pétanque
LOCATION:Plaine des jeux - Avenue de la Libération 87110 Bosmie l'Aiguille
 \, Plaine des jeux - Avenue de la Libération 87110 Bosmie l'Aiguille\, Bo
 smie l'Aiguille\, France
GEO:45.762073;1.209777
X-APPLE-STRUCTURED-LOCATION;VALUE=URI;X-ADDRESS=Plaine des jeux - Avenue de
  la Libération 87110 Bosmie l'Aiguille\, Bosmie l'Aiguille\, France;X-APP
 LE-RADIUS=100;X-TITLE=Plaine des jeux - Avenue de la Libération 87110 Bos
 mie l'Aiguille:geo:45.762073,1.209777
END:VEVENT
BEGIN:VTIMEZONE
TZID:Europe/Paris
X-LIC-LOCATION:Europe/Paris
BEGIN:DAYLIGHT
DTSTART:20260329T030000
TZOFFSETFROM:+0100
TZOFFSETTO:+0200
TZNAME:CEST
END:DAYLIGHT
END:VTIMEZONE
END:VCALENDAR