BEGIN:VCALENDAR
VERSION:2.0
PRODID:-//wp-events-plugin.com//7.2.3.1//EN
TZID:Europe/Paris
X-WR-TIMEZONE:Europe/Paris
BEGIN:VEVENT
UID:706@ufolep87.fr
DTSTART;TZID=Europe/Paris:20260719T140000
DTEND;TZID=Europe/Paris:20260719T190000
DTSTAMP:20251205T105813Z
URL:https://ufolep87.fr/evenements/concours-doublettes-petanque-31
SUMMARY:Concours Doublettes Pétanque
DESCRIPTION:\nClub: La Boule ArédienneLieu: Boulodrome de St YrieixHorai
 re: 14h15\n\nInformations complémentaires:\n\n 	Non Limité - Ouvert à t
 ous\n 	Concours A B C\n 	Tel: 06 22 63 02 55\n\nOrganisateur : Philippe TI
 CHADOU - philippe@laposte.net\n\n\n\n\n\n
CATEGORIES:Pétanque
LOCATION:Boulodrome St-Yrieix\, Boulodrome St-Yrieix\, St-Yrieix\, France
GEO:45.51379;1.203059
X-APPLE-STRUCTURED-LOCATION;VALUE=URI;X-ADDRESS=Boulodrome St-Yrieix\, St-Y
 rieix\, France;X-APPLE-RADIUS=100;X-TITLE=Boulodrome St-Yrieix:geo:45.5137
 9,1.203059
END:VEVENT
BEGIN:VTIMEZONE
TZID:Europe/Paris
X-LIC-LOCATION:Europe/Paris
BEGIN:DAYLIGHT
DTSTART:20260329T030000
TZOFFSETFROM:+0100
TZOFFSETTO:+0200
TZNAME:CEST
END:DAYLIGHT
END:VTIMEZONE
END:VCALENDAR