BEGIN:VCALENDAR
VERSION:2.0
PRODID:-//wp-events-plugin.com//7.2.3.1//EN
TZID:Europe/Paris
X-WR-TIMEZONE:Europe/Paris
BEGIN:VEVENT
UID:694@ufolep87.fr
DTSTART;TZID=Europe/Paris:20260406T140000
DTEND;TZID=Europe/Paris:20260406T173000
DTSTAMP:20251205T101556Z
URL:https://ufolep87.fr/evenements/concours-doublettes-petanque-30
SUMMARY:Concours Doublettes Pétanque
DESCRIPTION:Club: Amicale Pétanque Nexon\n\nLieu: Etang de la Lande\n\nHor
 aire: 14h00\n\nConcours ABC\n\nOrganisateur : CARPE Jean-Christophe --&gt\
 ; jean-christophe.carpe@orange.fr\n\n&nbsp\;\n\n&nbsp\;\n\n&nbsp\;\n\n&nbs
 p\;\n\n&nbsp\;\n\n&nbsp\;\n\n&nbsp\;\n\n&nbsp\;\n\n&nbsp\;\n\n&nbsp\;\n\n&
 nbsp\;\n\n&nbsp\;\n\n&nbsp\;\n\n&nbsp\;\n\n&nbsp\;\n\n&nbsp\;\n\n&nbsp\;\n
 \n&nbsp\;\n\n&nbsp\;\n\n&nbsp\;\n\n&nbsp\;\n\n&nbsp\;\n\n&nbsp\;\n\n&nbsp\
 ;\n\n&nbsp\;\n\n&nbsp\;\n\n&nbsp\;\n\n&nbsp\;\n\n&nbsp\;\n\n&nbsp\;\n\n&nb
 sp\;\n\n&nbsp\;\n\n&nbsp\;\n\n&nbsp\;
CATEGORIES:Pétanque
LOCATION:Etang de la Lande\, Etang de la Lande  - Le LANDES - 87800 Nexon\
 , Nexon\, France
GEO:45.662415;1.185355
X-APPLE-STRUCTURED-LOCATION;VALUE=URI;X-ADDRESS=Etang de la Lande  - Le LA
 NDES - 87800 Nexon\, Nexon\, France;X-APPLE-RADIUS=100;X-TITLE=Etang de la
  Lande:geo:45.662415,1.185355
END:VEVENT
BEGIN:VTIMEZONE
TZID:Europe/Paris
X-LIC-LOCATION:Europe/Paris
BEGIN:DAYLIGHT
DTSTART:20260329T030000
TZOFFSETFROM:+0100
TZOFFSETTO:+0200
TZNAME:CEST
END:DAYLIGHT
END:VTIMEZONE
END:VCALENDAR