BEGIN:VCALENDAR
VERSION:2.0
PRODID:-//wp-events-plugin.com//7.2.3.1//EN
TZID:Europe/Paris
X-WR-TIMEZONE:Europe/Paris
BEGIN:VEVENT
UID:689@ufolep87.fr
DTSTART;TZID=Europe/Paris:20260307T140000
DTEND;TZID=Europe/Paris:20260307T190000
DTSTAMP:20251205T100936Z
URL:https://ufolep87.fr/evenements/concours-doublettes-petanque-28
SUMMARY:Concours Doublettes Pétanque
DESCRIPTION:\nClub: Amicale Bouliste Arfeuille SY Lieu: Boulodrome de St Y
 rieixHoraire: 14h15\n\nInformations complémentaires:\n\n 	Concours A B C\
 n 	Tel: 06 22 63 02 55\n\nOrganisateur : Laetitia VIGNAUD  - 06.82.69.51.
 62\n\n\n\n\n\n
CATEGORIES:Pétanque
LOCATION:Boulodrome St-Yrieix\, Boulodrome St-Yrieix\, St-Yrieix\, France
GEO:45.51379;1.203059
X-APPLE-STRUCTURED-LOCATION;VALUE=URI;X-ADDRESS=Boulodrome St-Yrieix\, St-Y
 rieix\, France;X-APPLE-RADIUS=100;X-TITLE=Boulodrome St-Yrieix:geo:45.5137
 9,1.203059
END:VEVENT
BEGIN:VTIMEZONE
TZID:Europe/Paris
X-LIC-LOCATION:Europe/Paris
BEGIN:STANDARD
DTSTART:20251026T020000
TZOFFSETFROM:+0200
TZOFFSETTO:+0100
TZNAME:CET
END:STANDARD
END:VTIMEZONE
END:VCALENDAR